BEGIN:VCALENDAR
VERSION:2.0
PRODID:-//NEU - ECPv6.10.2//NONSGML v1.0//EN
CALSCALE:GREGORIAN
METHOD:PUBLISH
X-WR-CALNAME:NEU
X-ORIGINAL-URL:https://neu.edu.vn
X-WR-CALDESC:Events for NEU
REFRESH-INTERVAL;VALUE=DURATION:PT1H
X-Robots-Tag:noindex
X-PUBLISHED-TTL:PT1H
BEGIN:VTIMEZONE
TZID:Asia/Bangkok
BEGIN:STANDARD
TZOFFSETFROM:+0700
TZOFFSETTO:+0700
TZNAME:+07
DTSTART:20250101T000000
END:STANDARD
END:VTIMEZONE
BEGIN:VEVENT
DTSTART;TZID=Asia/Bangkok:20250323T140000
DTEND;TZID=Asia/Bangkok:20250323T170000
DTSTAMP:20260422T190409
CREATED:20250324T085913Z
LAST-MODIFIED:20250326T060129Z
UID:18925-1742738400-1742749200@neu.edu.vn
SUMMARY:Buổi Tư vấn và làm thủ tục Bảo lưu Kết quả tuyển sinh kỳ mùa Xuân 2025
DESCRIPTION:Viện Đào tạo Quốc tế tổ chức Buổi Tư vấn và làm thủ tục bảo lưu kết quả tuyển sinh kỳ mùa Xuân 2025: \nThời gian: 14h – 17h ngày 23/3/2025 \nĐịa điểm: Hội trường lớn A2\, hầm B1\, ĐH Kinh tế Quốc dân \nNội dung: \n\nLàm thủ tục bảo lưu (Làm đơn xin bảo lưu và nộp lệ phí bảo lưu 300.000 đồng theo hướng dẫn)\nGiới thiệu “Hành trình Khám phá và Khẳng định chính mình tại IBD@NEU”\nTrao Học bổng đầu vào cho Thí sinh trúng tuyển sớm\nGiới thiệu về Chuỗi hoạt động dành cho Thí sinh trúng tuyển sớm từ tháng 4 – 8/2025\nGiới thiệu chuyên sâu về các ngành tại IBD@NEU:\n\nNgành Quản trị Kinh doanh\, Quản trị Kinh doanh Quốc tế\, Kinh doanh & Quản trị Sự kiện\, Ngân hàng & Tài chính hợp tác với ĐH West of England (VQ Anh); Ngành Kinh doanh & Marketing hợp tác với ĐH Coventry (VQ Anh)\nNgành Digital Marketing hợp tác với ĐH Leeds Beckett (VQ Anh)\nCác ngành Tài chính\, Kinh tế học hợp tác với ĐH Lincoln (VQ Anh)\nNgành QTKD hợp tác với ĐH Andrews\, Boise (Mỹ)\n\n\n\n  \n \n Lưu ý: \n\nThí sinh (hoặc người nhà) cần mang theo CCCD/CMT của Thí sinh khi làm thủ tục.\nThí sinh cần đóng phí Bảo lưu 300.000VND vào:\n\n– Số TK: 2116678989\, Ngân hàng TMCP Đầu tư và Phát triển Việt Nam\, chi nhánh Hà Nội \nChủ TK: Đại học Kinh tế Quốc dân \n– Nội dung chuyển tiền: Họ và tên – Ngày tháng năm sinh – Số điện thoại – BLKQTS CTCNQT \n– Thời gian chuyển tiền: Đến hết ngày 23/3/2025 \n Trường hợp thí sinh hoặc phụ huynh không thể tham gia buổi Gặp mặt ngày 23/3: Hạn cuối để làm thủ tục bảo lưu là 28/3/2025\n\nNếu thí sinh ở Hà Nội có thể đến nhận Giấy báo Kết quả tuyển sinh và làm thủ tục bảo lưu kết quả tuyển sinh tại Văn phòng Viện Đào tạo Quốc tế\, phòng 1409\, tầng 14\, nhà A1\, từ ngày 24/3 đến ngày 28/3/2025 để giữ chỗ nhập học vào kỳ mùa Thu tháng 9/2025\nNếu thí sinh ở tỉnh xa\, có thể liên hệ hỗ trợ: cô Vũ Hoàng Oanh\, Chánh Văn phòng Viện ĐTQT\, điện thoại 0913 030 652\n\n 
URL:https://neu.edu.vn/su-kien/buoi-tu-van-va-lam-thu-tuc-bao-luu-ket-qua-tuyen-sinh-ky-mua-xuan-2025/
LOCATION:Hội trường lớn A2\, hầm B1\, ĐH Kinh tế Quốc dân\, Hà Nội\, Viet Nam
ATTACH;FMTTYPE=image/webp:https://neu.edu.vn/wp-content/uploads/2025/03/cover-1536x1536-1.webp
END:VEVENT
END:VCALENDAR